BEGIN:VCALENDAR
VERSION:2.0
PRODID:-//Visual Arts Center of New Jersey - ECPv6.15.18//NONSGML v1.0//EN
CALSCALE:GREGORIAN
METHOD:PUBLISH
X-ORIGINAL-URL:https://www.artcenternj.org
X-WR-CALDESC:Events for Visual Arts Center of New Jersey
REFRESH-INTERVAL;VALUE=DURATION:PT1H
X-Robots-Tag:noindex
X-PUBLISHED-TTL:PT1H
BEGIN:VTIMEZONE
TZID:UTC
BEGIN:STANDARD
TZOFFSETFROM:+0000
TZOFFSETTO:+0000
TZNAME:UTC
DTSTART:20240101T000000
END:STANDARD
END:VTIMEZONE
BEGIN:VEVENT
DTSTART;VALUE=DATE:20251027
DTEND;VALUE=DATE:20251110
DTSTAMP:20260419T180713
CREATED:20251027T211923Z
LAST-MODIFIED:20251027T211923Z
UID:10876-1761523200-1762732799@www.artcenternj.org
SUMMARY:Winter 2026 Pre-Registration
DESCRIPTION:Winter 2026 Pre-Registration\nPre-registration for our Winter 2026 semester begins on Monday\, October 27. \n\nPre-registration is available only to current Art Center students and members. This gives priority to our community members before registration opens to the public.\nWe will offer an early-bird discount of $5 off each class (workshops do not qualify for a discount).\nPre-registration will be available in-person or over the phone only.\nPre-registration will open on a staggered schedule to spread out the pre-registration process across the week.\n\nOn Monday\, 10/27\, pre-registration opens for classes that meet on Mondays.\nOn Tuesday\, 10/28\, in addition to the Monday classes already available\, Tuesday classes open for pre-registration.\nOn Wednesday\, 10/29\, in addition to the classes already available\, Wednesday classes open for pre-registration.\nOn Thursday\, 10/30\, in addition to the classes already available\, Thursday classes open for pre-registration.\nOn Friday\, 10/31\, in addition to the classes already available\, Friday\, Saturday\, and Sunday classes and workshops open for pre-registration.\n\n\nIf you are planning to pre-register for multiple classes that meet on different days of the week\, you have two options:\n\nYou can pre-register for each class separately on the first day the pre-registration opens for each. For example\, you can pre-register for a Monday class on 10/27\, and you can pre-register for a Wednesday class on 10/29.\nOr\, you can pre-register for both classes on the day that the latest class opens. For example\, if you want to enroll in a Monday and a Wednesday class\, you can pre-register for both on 10/29. You have the option of doing one enrollment for both classes on the latest date.\nIf you choose to pre-register over the phone\, you will be prompted to leave a message. By leaving a message\, you will be entering a queue for phone enrollment. Messages will be returned within one hour\, in the order they are received. Please follow the prompts when calling.\n\n\n\n\n\n\nWINTER 2026 ADULT CLASS & WORKSHOP LISTINGWINTER 2026 KID CLASS & WORKSHOP LISTINGWINTER 2026 TEEN CLASS & WORKSHOP LISTINGSubscribe to our Newsletter  \n\n\n\n\n\n\nhttps://frmedicamentsenligne.com/acheter-levitra-generique.html
URL:https://www.artcenternj.org/event/winter-2026-pre-registration/
ATTACH;FMTTYPE=image/png:https://www.artcenternj.org/wp-content/uploads/2025/10/Preregistration-Headers-800-x-610-px.png
END:VEVENT
BEGIN:VEVENT
DTSTART;TZID=UTC:20251029T190000
DTEND;TZID=UTC:20251029T200000
DTSTAMP:20260419T180713
CREATED:20251009T170257Z
LAST-MODIFIED:20251009T170257Z
UID:10828-1761764400-1761768000@www.artcenternj.org
SUMMARY:Transcendental Meditation Workshop
DESCRIPTION:Join us on Wednesday\, October 29\, at 7 PM as the Visual Arts Center of New Jersey hosts an introductory talk on Transcendental Meditation (TM)—a simple\, natural\, and effortless technique for inner peace and wellness. \nThis presentation will explore the many benefits of TM\, including improved brain function and creativity\, better sleep\, reduced anxiety and stress\, and a lower risk of heart attack and stroke—all supported by more than 380 peer-reviewed scientific studies. \nAttendees will learn how TM works\, how it differs from other forms of meditation\, and how just 15–20 minutes twice a day can lead to lasting relaxation and clarity. The talk will include short videos showcasing how TM has positively impacted students\, healthcare workers\, first responders\, and veterans. \nThe evening will conclude with a Q&A session with local Summit TM teachers. \nThis event is free and open to the public. No registration is required.
URL:https://www.artcenternj.org/event/transcendental-meditation-workshop/
LOCATION:Visual Arts Center of New Jersey\, 68 Elm Street\, Summit\, NJ\, 07901\, United States
ATTACH;FMTTYPE=image/png:https://www.artcenternj.org/wp-content/uploads/2025/10/Untitled-design-5.png
END:VEVENT
BEGIN:VEVENT
DTSTART;TZID=UTC:20251120T180000
DTEND;TZID=UTC:20251120T210000
DTSTAMP:20260419T180713
CREATED:20251017T171741Z
LAST-MODIFIED:20251017T171741Z
UID:10839-1763661600-1763672400@www.artcenternj.org
SUMMARY:Evening with an Artist: Marion Wilson
DESCRIPTION:Join us on Thursday\, November 20\, for an engaging evening with exhibiting artist Marion Wilson. Marion will discuss her artistic process and creative approach\, offering insight into the works currently on view in the Art Center’s Main Gallery exhibition\, All That Consumes Me. Following the discussion\, Marion will participate in a Q&A session moderated by VACNJ Curator Jordan Horton\, allowing visitors to ask questions and explore the ideas behind her work in greater depth. \nThe evening will also include food and wine\, offering guests the chance to continue the conversation and connect with fellow art enthusiasts in a relaxed\, social setting. Click here to register! \nMarion Wilson’s art investigates landscape as a way to foster connection to self and place. Through painting\, photography\, and installation\, she explores our relationship to nature amid climate change and ecological loss. Her work often bridges art and science\, partnering with botanists\, architects\, and urban communities to imagine more just and sustainable futures.Wilson approaches social and ecological challenges through the lens of creative inquiry\, using scientific tools and observational methods to “look closely and pay attention to what is small\, omnipresent\, and frequently overlooked—drawing parallels between the natural world and the most fundamental aspects of human presence.” \nWilson is the founder of MLAB and MossLab\, mobile eco/art labs that examined moss species along the East Coast while also serving as classrooms for hundreds of Syracuse students each year. She also founded 601 Tully\, transforming an abandoned residence in Syracuse\, NY into a neighborhood art center\, and more recently reimagined a houseboat in Vineyard Haven\, MA as a floating studio and public platform for environmental dialogue. \nA former Associate Professor at Syracuse University\, Wilson created the award-winning New Directions in Social Sculpture curriculum and collaborated with botanist Dr. Robin Wall Kimmerer\, whose teachings on Traditional Ecological Knowledge continue to inform her practice. \n“Compost/Composed”\, Marion Wilson’s work in the exhibition in the galleries is an exploration of humanity’s connection to nature\, community\, and self through food. Working from political\, cultural\, and ecological lenses\, I investigate how these entanglements have been complicated by COVID-19\, which has caused major shifts in the way communities access and experience food together\, furthering issues of scarcity. At the core of the project is an exercise in testing the limits of confinement both artistically and practically: how can art both transform and be transformed by scarcity? Through photography\, painting\, and natural dye-making\, this new work will present each component as both process and product\, following the transformation of food from decomposing compost; to natural\, hand-made dye; to the final artistic work\, to social gathering. \nMarion Wilson divides her time between Brooklyn\, NY and a houseboat on Martha’s Vineyard. \n  \n 
URL:https://www.artcenternj.org/event/evening-with-an-artist-marion-wilson/
LOCATION:Visual Arts Center of New Jersey\, 68 Elm Street\, Summit\, NJ\, 07901\, United States
ATTACH;FMTTYPE=image/png:https://www.artcenternj.org/wp-content/uploads/2025/10/Evening-with-an-Artist-Wilson-800-x-610-px.png
END:VEVENT
BEGIN:VEVENT
DTSTART;TZID=UTC:20251204T160000
DTEND;TZID=UTC:20251204T190000
DTSTAMP:20260419T180713
CREATED:20251124T185855Z
LAST-MODIFIED:20251124T185855Z
UID:11001-1764864000-1764874800@www.artcenternj.org
SUMMARY:First Thursday Clothing Drive
DESCRIPTION:Donate To Our First Thursday Clothing Drive!\n\nJoin us NEXT Thursday\, December 4\, for Summit First Thursday! The Art Center will be collecting excess clothing\, shoes\, accessories\, and household linens—with support from Helpsy. \nA portion of the value of all donated items will be given back to the Art Center by Helpsy\, helping to support our programs and community initiatives. \nFor more information\, click here!
URL:https://www.artcenternj.org/event/first-thursday-clothing-drive/
ATTACH;FMTTYPE=image/jpeg:https://www.artcenternj.org/wp-content/uploads/2025/11/12.4-Visual-Arts-Center-of-NJ-copy-Event.jpg
END:VEVENT
BEGIN:VEVENT
DTSTART;VALUE=DATE:20251229
DTEND;VALUE=DATE:20251231
DTSTAMP:20260419T180713
CREATED:20251110T155742Z
LAST-MODIFIED:20251110T155742Z
UID:10952-1766966400-1767139199@www.artcenternj.org
SUMMARY:Winter Break Workshops for Kids & Tweens
DESCRIPTION:Give the kid or tween in your life the gift of creativity this winter season! In each session\, young artists will learn a variety of art techniques while creating fun winter–themed projects. All art supplies are included. Each day features an AM session and a PM session. Young artists who enroll in both sessions on the same day can bring a bagged lunch to eat in–between sessions. \n8129 Snowmen in Watercolor (ages 6–9)\nMonday\, 12/29\, 10–11:30 AM\nTuition: $52\nMaterials fee: $15 \n8133 Vibrant Cardinals in Acrylic (ages 10–13)\nMonday\, 12/29\, 10–11:30 AM\nTuition: $52\nMaterials fee: $15 \n8130 Clay Penguins (ages 6–9)\nMonday\, 12/29\, 12–1:30 PM\nTuition: $52\nMaterials fee: $15 \n8134 Wintry Pen & Ink Drawings (ages 10–13)\nMonday\, 12/29\, 12–1:30 PM\nTuition: $52\nMaterials fee: $15 \n8131 Watercolor Snowflake Paintings (ages 6–9)\nTuesday\, 12/30\, 10–11:30 AM\nTuition: $52\nMaterials fee: $15 \n8135 Stained Glass Watercolor Paintings (ages 10–13)\nTuesday\, 12/30\, 10–11:30 AM\nTuition: $52\nMaterials fee: $15 \n8132 Bears in Sweaters Line Drawings (ages 6–9)\nTuesday\, 12/30\, 12–1:30 PM\nTuition: $52\nMaterials fee: $15 \n8136 Snowy Owls in Clay (ages 10–13)\nTuesday\, 12/30\, 12–1:30 PM\nTuition: $52\nMaterials fee: $15
URL:https://www.artcenternj.org/event/winter-break-workshops-for-kids-tweens-3/
ATTACH;FMTTYPE=image/png:https://www.artcenternj.org/wp-content/uploads/2025/11/Winter-Break-800-x-610-px.png
END:VEVENT
BEGIN:VEVENT
DTSTART;VALUE=DATE:20260104
DTEND;VALUE=DATE:20260105
DTSTAMP:20260419T180713
CREATED:20251110T160228Z
LAST-MODIFIED:20251110T160228Z
UID:10956-1767484800-1767571199@www.artcenternj.org
SUMMARY:Winter Break Workshops for Adults
DESCRIPTION:Start the year right with a workshop at the Art Center! \n8374 Torch Enameling\nInstructor: Sue Sachs\nTorch enameling is a fantastic way to add vibrant colors to your copper or fine silver pieces without the need for a kiln. In this fun and direct process\, watch enamels transform from powder to colorful glass as your piece changes temperature with heat from a torch. Different techniques of torch enameling will be discussed\, as well as methods for setting finished pieces. No experience is necessary. Students who wish to work in silver should purchase fine silver sheet (not sterling).\nSunday\, 1/4\, 10 AM–4 PM\nTuition: $137\nMaterials fee: $38 \n8344 Painting with Wool: Needle Felting a Winter Landscape\nInstructor: Martha McDonald\nCreate a beautiful and unique winter wonderland scene entirely made of wool! Through demonstrations and step–by–step instruction\, students will learn about the versatility of this medium by transforming colorful wool roving into amazing textured art. Students will be encouraged to use their own ideas and leave with a completed felted canvas.\nSunday\, 1/4\, 10 AM–4 PM\nTuition: $137\nMaterials fee: $34 \n8373 Poinsettia Watercolor Painting\nInstructor: Kat Block\nEnroll in this one–day workshop to bring poinsettias to life with watercolor. Students will incorporate color\, shape\, line\, light\, and more to create a dynamic painting. The instructor will cover a variety of watercolor techniques\, such as creating warm tones and the “wet–on–wet” process to enhance the colors of the flower.\nSunday\, 1/4\, 10 AM–2 PM\nTuition: $110\nMaterials fee: $27 \n8375 NEW! Eclectic Non-Traditional Mosaics\nInstructor: Shelley Rosen Howard\nEclectic mosaics can be made with an assortment of recyclable and repurposed items\, such as broken glass\, beads\, charms\, broken china\, found objects\, or treasures from your favorite junk drawer! Each piece contributes to the color\, texture\, and unique quality of a collage–like mosaic. Students will take a non–traditional approach to create mosaics in this one–day workshop. Students are encouraged to bring their own “treasures” for their mosaic\, such as frames\, mirrors\, and other objects. Some materials provided.\nSunday\, 1/4\, 10 AM–2 PM\nTuition: $110\nMaterials fee: $27
URL:https://www.artcenternj.org/event/winter-break-workshops-for-adults-3/
ATTACH;FMTTYPE=image/png:https://www.artcenternj.org/wp-content/uploads/2025/11/Winter-Break-800-x-610-px-1.png
END:VEVENT
BEGIN:VEVENT
DTSTART;VALUE=DATE:20260105
DTEND;VALUE=DATE:20260106
DTSTAMP:20260419T180713
CREATED:20251110T160849Z
LAST-MODIFIED:20251110T160849Z
UID:10958-1767571200-1767657599@www.artcenternj.org
SUMMARY:Winter Semester Begins
DESCRIPTION:Winter semester begins on Monday\, January 5. Click here to see all that’s available!
URL:https://www.artcenternj.org/event/winter-semester-begins-4/
ATTACH;FMTTYPE=image/jpeg:https://www.artcenternj.org/wp-content/uploads/2025/11/Preregistration-Headers-800-x-610-px.jpg
END:VEVENT
BEGIN:VEVENT
DTSTART;TZID=UTC:20260118T140000
DTEND;TZID=UTC:20260118T160000
DTSTAMP:20260419T180713
CREATED:20251211T031718Z
LAST-MODIFIED:20251211T033534Z
UID:11026-1768744800-1768752000@www.artcenternj.org
SUMMARY:Fall Exhibitions Closing Thoughts
DESCRIPTION:Join us on Sunday\, January 18\, from 2–4 PM for a final look at our fall exhibitions and a special panel discussion. Artists Andrew Harrison\, Carolyn Lambert\, and Ángeles Cossio will join VACNJ Curator Jordan Horton for a conversation about their work. The panel will run from 2:30 to 3:30 PM. Light snacks and refreshments will be served.
URL:https://www.artcenternj.org/event/fall-exhibitions-closing-thoughts/
LOCATION:Visual Arts Center of New Jersey\, 68 Elm Street\, Summit\, NJ\, 07901\, United States
ATTACH;FMTTYPE=image/jpeg:https://www.artcenternj.org/wp-content/uploads/2025/12/Last-Look-Featured.jpg
END:VEVENT
BEGIN:VEVENT
DTSTART;TZID=UTC:20260119T123000
DTEND;TZID=UTC:20260119T143000
DTSTAMP:20260419T180713
CREATED:20251211T032144Z
LAST-MODIFIED:20251211T032144Z
UID:11029-1768825800-1768833000@www.artcenternj.org
SUMMARY:MLK Day Community Rock Garden
DESCRIPTION:All ages and families are welcome to paint rocks to contribute to our community rock garden! Help us spread messages of peace\, love\, and hope\, or create an image that is all your own! Once done\, all creations will live in the Art Center’s rock garden for the community to enjoy. All materials and supplies will be provided. VACNJ’s Director of Education and Community Engagement\, Rachel Aponte\, will be on-site to help with materials and ideas.
URL:https://www.artcenternj.org/event/mlk-day-community-rock-garden-2/
ATTACH;FMTTYPE=image/jpeg:https://www.artcenternj.org/wp-content/uploads/2024/12/MLK-Day-Event-image.jpg
END:VEVENT
BEGIN:VEVENT
DTSTART;TZID=UTC:20260130T090000
DTEND;TZID=UTC:20260130T150000
DTSTAMP:20260419T180713
CREATED:20251211T033400Z
LAST-MODIFIED:20251211T033400Z
UID:11031-1769763600-1769785200@www.artcenternj.org
SUMMARY:Professional Development for Teachers: Mixed Media with Kat Block
DESCRIPTION:Join us for a hands-on professional development workshop with mixed-media collage artist Kat Block! Participants will begin with a guided tour of the community gallery\, where they’ll explore a range of Kat’s collage artworks\, before creating a mixed-media collage of their own using paper\, glue\, scissors\, and more. \nIn the first session\, participants will learn composition and layering techniques while creating a mandala collage with origami paper. They’ll then apply those skills to design a beach-themed collage using torn\, cut\, and pasted papers—including scrap\, tissue\, metallic\, pastel\, and painted watercolor varieties. Kat will provide reference images\, demonstrations\, and individualized guidance throughout. \nThis workshop is a wonderful opportunity to collaborate\, learn new techniques\, expand your skills\, and enjoy a little taste of summer! \nThis workshop will take place on Friday. January 30\, from 9 AM to 3 PM. Click here for more information or to register.
URL:https://www.artcenternj.org/event/professional-development-for-teachers-mixed-media-with-kat-block/
ATTACH;FMTTYPE=image/jpeg:https://www.artcenternj.org/wp-content/uploads/2025/12/Kat-Block-PD-2-Featured.jpg
END:VEVENT
BEGIN:VEVENT
DTSTART;TZID=UTC:20260213T183000
DTEND;TZID=UTC:20260213T203000
DTSTAMP:20260419T180713
CREATED:20260211T193131Z
LAST-MODIFIED:20260211T193131Z
UID:11187-1771007400-1771014600@www.artcenternj.org
SUMMARY:Spring Exhibitions Opening
DESCRIPTION:The Trustees of The Visual Arts Center of New Jersey cordially invite you to a special opening of our spring exhibitions on Friday\, February 13\, from 6:30 to 8:30 PM. The evening will feature light snacks\, and refreshments will be served. Click here to RSVP for the free event. A daylight hours preview is also available from 4–5 PM. No refreshments will be served at the daylight hours preview. \nThis spring\, VACNJ will showcase three exhibitions that examine various intersections of identity and representation. The exhibitions will feature artists whose work engages with themes such as material culture\, Indigenous identity\, queerness\, and cityscapes\, while questioning how narratives and visibility are controlled and reclaimed. Special attention is paid to the various processes of photography as artists demonstrate contemporary approaches to wet plate\, photogravure\, and other techniques. \nIn partnership with Art Bridges\, the Art Center is proud to host In Conversation: Will Wilson in the Main Gallery. In Conversation presents the works of Diné (Navajo) photographer Will Wilson (b. 1969) and Edward Sheriff Curtis (1868–1952). \nThe investigation of artists’ use of portraiture continues in the Mitzi and Warren Eisenberg Gallery with Gabriel Garcia Roman’s solo exhibition Present and Growing. Featured in this solo exhibition are not only his best-known portrait series\, “Queer Icons\,” but also a range of his works that capture his experiences as a queer Mexican-born artist from a working-class family. \nIn the Art Center’s Marité and Joe Robinson Strolling Gallery I\, photographer Chrystofer Davis captures the portrait of a city in his exhibition With Passing Years. In a selection of photos of his hometown of Newark\, NJ\, Davis showcases the personality of the Four Corners District\, combining his work with archival photos courtesy of the Newark Public Library to reveal the many lives the city has lived.
URL:https://www.artcenternj.org/event/spring-exhibitions-opening/
LOCATION:Visual Arts Center of New Jersey\, 68 Elm Street\, Summit\, NJ\, 07901\, United States
ATTACH;FMTTYPE=image/png:https://www.artcenternj.org/wp-content/uploads/2026/02/Gabriel-Garcia-RomanEVENT.png
END:VEVENT
BEGIN:VEVENT
DTSTART;TZID=UTC:20260227T190000
DTEND;TZID=UTC:20260227T200000
DTSTAMP:20260419T180713
CREATED:20251219T205623Z
LAST-MODIFIED:20251223T205127Z
UID:11054-1772218800-1772222400@www.artcenternj.org
SUMMARY:Vivid Stage Pop Up Show
DESCRIPTION:Vivid Stage\, in residence at Oakes Center at 120 Morris Avenue in Summit\, will bring a fresh format of theatre to the community on Friday\, February 27\, at the Visual Arts Center of New Jersey. This will be a Pop-Up show that will happen for one night only. The unscripted story will be improvised by the Vivid company of actors\, and will take place among the VACNJ audience members. \nTickets: $25 general admission. Click here to purchase. \nFor more information about Vivid Stage\, click here!
URL:https://www.artcenternj.org/event/vivid-stage-pop-up-show/
LOCATION:Visual Arts Center of New Jersey\, 68 Elm Street\, Summit\, NJ\, 07901\, United States
ATTACH;FMTTYPE=image/jpeg:https://www.artcenternj.org/wp-content/uploads/2025/12/Pop-Up-Graphic-EVENT.jpg
END:VEVENT
BEGIN:VEVENT
DTSTART;VALUE=DATE:20260330
DTEND;VALUE=DATE:20260404
DTSTAMP:20260419T180713
CREATED:20260115T172712Z
LAST-MODIFIED:20260316T183912Z
UID:11112-1774828800-1775260799@www.artcenternj.org
SUMMARY:Spring Break Art Camp for Kids & Tweens
DESCRIPTION:Join us for a special small group Spring Break Art Camp for kids ages 6–9 and tweens ages 10–12! At the Art Center\, young artists will learn from our talented teaching artists\, create unique art projects\, and socialize with friends. This half-day camp (morning session for kids and afternoon session for tweens) will feature art-making in a small group environment. Please send campers with a water bottle and snack only (there will not be a lunch period)\, and in clothes that can get messy. \n  \nKids Camp (ages 6–9) WAITLIST ONLY\n8:45–9 AM: Drop-off\n9 AM–12 PM: Artmaking Sessions\n12–12:15 PM: Pick-up \nTweens (ages 10–12)\n12:45–1 PM: Drop-off\n1–4 PM: Artmaking Sessions\n4–4:15 PM: Pick-up
URL:https://www.artcenternj.org/event/spring-break-art-camp-for-kids-tweens/
ATTACH;FMTTYPE=image/jpeg:https://www.artcenternj.org/wp-content/uploads/2023/05/Summer-Camp23-Week-8.jpg
END:VEVENT
BEGIN:VEVENT
DTSTART;VALUE=DATE:20260330
DTEND;VALUE=DATE:20260331
DTSTAMP:20260419T180713
CREATED:20260302T173735Z
LAST-MODIFIED:20260302T173735Z
UID:11303-1774828800-1774915199@www.artcenternj.org
SUMMARY:Spring Semester Begins
DESCRIPTION:Spring Semester classes begin March 30\, but spots are filling fast. Click here to see all that’s available and sign up today!
URL:https://www.artcenternj.org/event/spring-semester-begins-4/
ATTACH;FMTTYPE=image/png:https://www.artcenternj.org/wp-content/uploads/2026/03/Spring-Semester-800-x-610-px.png
END:VEVENT
BEGIN:VEVENT
DTSTART;TZID=UTC:20260425T180000
DTEND;TZID=UTC:20260425T230000
DTSTAMP:20260419T180713
CREATED:20260114T164326Z
LAST-MODIFIED:20260114T164326Z
UID:11096-1777140000-1777158000@www.artcenternj.org
SUMMARY:Annual Spring Gala: Art Empowers
DESCRIPTION:Join us on Saturday\, April 25\, 2026\, at Canoe Brook Country Club to celebrate more than 90 years of empowering through art! \nOur evening will include drinks\, dinner\, a chance to win unique art through a live auction\, and a silent auction. All funds raised will support the Visual Arts Center of New Jersey\, helping us widen our reach and broaden our impact! We can’t wait to see you there! \n\n\nClick here for more information and to sponsor!
URL:https://www.artcenternj.org/event/annual-spring-gala-art-empowers/
LOCATION:Canoe Brook Country Club\, 1108 Morris Tpke\, Summit\, NJ\, 07901
ATTACH;FMTTYPE=image/jpeg:https://www.artcenternj.org/wp-content/uploads/2026/01/2026-Gala-STD-Event.jpg
END:VEVENT
BEGIN:VEVENT
DTSTART;VALUE=DATE:20260507
DTEND;VALUE=DATE:20260508
DTSTAMP:20260419T180713
CREATED:20260330T200355Z
LAST-MODIFIED:20260416T210907Z
UID:11372-1778112000-1778198399@www.artcenternj.org
SUMMARY:Summit First Thursday
DESCRIPTION:After a short hiatus\, Summit First Thursday is returning on May 7\, 2026—and this year it’s expanding to all-day events across Summit.  \n\nOn the first Thursday of each month\, local galleries\, shops\, restaurants\, and cultural spaces host special experiences that make it easy (and fun) to explore the creative side of Summit. You might stop in to meet a local artist\, see a new exhibition\, enjoy a free activity\, or sample a complimentary bite or drink while discovering a business you’ve never visited before.\n\nThe Art Center will feature: \n\nMidday Gardening Tour with Artist-in-Residence Gabriella D’Italia \n12–2 PM\nJoin artist-in-residence Gabriella D’Italia for a midday stroll through our green space\, where you’ll learn about local plants and gardening tips.\nCLICK HERE TO REGISTER FOR THE FREE EVENT\n\n\n\nAn Evening in the Galleries\n5:30–7 PM\nStop by to see our Spring Exhibitions\, enjoy light refreshments\, and connect with fellow art enthusiasts.
URL:https://www.artcenternj.org/event/summit-first-thursday-4/
LOCATION:Visual Arts Center of New Jersey\, 68 Elm Street\, Summit\, NJ\, 07901\, United States
ATTACH;FMTTYPE=image/png:https://www.artcenternj.org/wp-content/uploads/2025/02/First-Thursday-800-x-610-px.png
END:VEVENT
BEGIN:VEVENT
DTSTART;TZID=UTC:20260606T100000
DTEND;TZID=UTC:20260606T140000
DTSTAMP:20260419T180713
CREATED:20260326T203124Z
LAST-MODIFIED:20260327T201531Z
UID:11362-1780740000-1780754400@www.artcenternj.org
SUMMARY:Community Day
DESCRIPTION:On June 6\, 2026\, the Visual Arts Center of New Jersey will celebrate its spring exhibitions with a Community Day event. The day\, which will feature artist-led walks around Summit\, a live podcast recording\, and drop-in workshops\, will run from 10 AM to 2 PM. Click here to register. \nSchedule of Events: \nArt Walks in Summit with Exhibiting Artist Chrystofer Davis\nStep outside for guided photo-based walks through Summit\, led by artist Chrystofer Davis. Participants are encouraged to observe\, document\, and reflect on their surroundings using smartphones or disposable cameras (available as needed). Walks will take place at 10:15 AM\, 11:15 AM\, and 1:15 PM. \nLive Podcast Recording with Jordan Horton & Dennis Redmoon Darkeem\nJoin us for a live podcast recording featuring a conversation between podcast host and Indigenous artist Dennis Redmoon Darkeem and Art Center Curator Jordan Horton. Together\, they’ll discuss art\, identity\, and creative practice. This recording will take place in the Main Gallery from 12 to 1 PM. \nPortraiture Booth & Queer Icon Drop-In Workshop with Exhibiting Artist Gabriel Garcia Roman\nStep into the portraiture booth and explore self-expression through photography using a variety of props—participants are invited to represent themselves in any way they choose. Then\, join the drop-in workshop inspired by Gabriel Garcia Roman’s Queer Icons series\, where you can transform your portrait (or images provided by the artist) into your own personalized queer icon artwork. The portraiture booth will be available from 10:00 AM to 12:00 PM. Queer Icon Workshops will take place from 11 AM to 12 PM and 1 to 2 PM. \nPinhole Camera Station\nExplore the magic of analog photography at our all-day pinhole camera station\, led by artist James Provenzano. Learn how pinhole photography works and create your own images in this hands-on activity for all ages. This station will be available to the public from 10 AM to 2 PM on the Art Center lawn.
URL:https://www.artcenternj.org/event/community-day/
LOCATION:Visual Arts Center of New Jersey\, 68 Elm Street\, Summit\, NJ\, 07901\, United States
ATTACH;FMTTYPE=image/png:https://www.artcenternj.org/wp-content/uploads/2026/03/Community-Day-800-x-610-px-1.png
END:VEVENT
BEGIN:VEVENT
DTSTART;VALUE=DATE:20260615
DTEND;VALUE=DATE:20260616
DTSTAMP:20260419T180713
CREATED:20260417T174333Z
LAST-MODIFIED:20260417T174333Z
UID:11466-1781481600-1781567999@www.artcenternj.org
SUMMARY:Summer Camp Begins
DESCRIPTION:Summer Art Camp at the Art Center begins today! Sign up now and give your child their most creative summer EVER! \nClick here for more information and to register.
URL:https://www.artcenternj.org/event/summer-camp-begins/
ATTACH;FMTTYPE=image/png:https://www.artcenternj.org/wp-content/uploads/2026/04/Summer-Camp-26-NJ-Kids-Ad-800-x-610-px.png
END:VEVENT
BEGIN:VEVENT
DTSTART;VALUE=DATE:20260622
DTEND;VALUE=DATE:20260623
DTSTAMP:20260419T180713
CREATED:20260327T201136Z
LAST-MODIFIED:20260327T201136Z
UID:11369-1782086400-1782172799@www.artcenternj.org
SUMMARY:Arts & Cars 2026 Early-Bird Deadline
DESCRIPTION:Do you have art or crafts you want to show and sell? The Visual Arts Center of New Jersey and Summit Downtown are thrilled to once again be hosting an outdoor art festival in beautiful downtown Summit! The event will work alongside local businesses and the Summit Farmers Market and will include a car show\, stage with musical performances all day long\, and a beer garden. The event always attracts large audiences. \nTo learn more\, and apply before the early-bird deadline\, click here.
URL:https://www.artcenternj.org/event/arts-cars-2026-early-bird-deadline/
ATTACH;FMTTYPE=image/jpeg:https://www.artcenternj.org/wp-content/uploads/2023/03/Arts-Cars23-Cropped-Event.jpg
END:VEVENT
END:VCALENDAR