BEGIN:VCALENDAR
VERSION:2.0
PRODID:-//Visual Arts Center of New Jersey - ECPv6.15.20//NONSGML v1.0//EN
CALSCALE:GREGORIAN
METHOD:PUBLISH
X-WR-CALNAME:Visual Arts Center of New Jersey
X-ORIGINAL-URL:https://www.artcenternj.org
X-WR-CALDESC:Events for Visual Arts Center of New Jersey
REFRESH-INTERVAL;VALUE=DURATION:PT1H
X-Robots-Tag:noindex
X-PUBLISHED-TTL:PT1H
BEGIN:VTIMEZONE
TZID:UTC
BEGIN:STANDARD
TZOFFSETFROM:+0000
TZOFFSETTO:+0000
TZNAME:UTC
DTSTART:20250101T000000
END:STANDARD
END:VTIMEZONE
BEGIN:VEVENT
DTSTART;TZID=UTC:20260130T090000
DTEND;TZID=UTC:20260130T150000
DTSTAMP:20260425T222238
CREATED:20251211T033400Z
LAST-MODIFIED:20251211T033400Z
UID:11031-1769763600-1769785200@www.artcenternj.org
SUMMARY:Professional Development for Teachers: Mixed Media with Kat Block
DESCRIPTION:Join us for a hands-on professional development workshop with mixed-media collage artist Kat Block! Participants will begin with a guided tour of the community gallery\, where they’ll explore a range of Kat’s collage artworks\, before creating a mixed-media collage of their own using paper\, glue\, scissors\, and more. \nIn the first session\, participants will learn composition and layering techniques while creating a mandala collage with origami paper. They’ll then apply those skills to design a beach-themed collage using torn\, cut\, and pasted papers—including scrap\, tissue\, metallic\, pastel\, and painted watercolor varieties. Kat will provide reference images\, demonstrations\, and individualized guidance throughout. \nThis workshop is a wonderful opportunity to collaborate\, learn new techniques\, expand your skills\, and enjoy a little taste of summer! \nThis workshop will take place on Friday. January 30\, from 9 AM to 3 PM. Click here for more information or to register.
URL:https://www.artcenternj.org/event/professional-development-for-teachers-mixed-media-with-kat-block/
LOCATION:NJ
ATTACH;FMTTYPE=image/jpeg:https://www.artcenternj.org/wp-content/uploads/2025/12/Kat-Block-PD-2-Featured.jpg
END:VEVENT
BEGIN:VEVENT
DTSTART;TZID=UTC:20260213T183000
DTEND;TZID=UTC:20260213T203000
DTSTAMP:20260425T222238
CREATED:20260211T193131Z
LAST-MODIFIED:20260211T193131Z
UID:11187-1771007400-1771014600@www.artcenternj.org
SUMMARY:Spring Exhibitions Opening
DESCRIPTION:The Trustees of The Visual Arts Center of New Jersey cordially invite you to a special opening of our spring exhibitions on Friday\, February 13\, from 6:30 to 8:30 PM. The evening will feature light snacks\, and refreshments will be served. Click here to RSVP for the free event. A daylight hours preview is also available from 4–5 PM. No refreshments will be served at the daylight hours preview. \nThis spring\, VACNJ will showcase three exhibitions that examine various intersections of identity and representation. The exhibitions will feature artists whose work engages with themes such as material culture\, Indigenous identity\, queerness\, and cityscapes\, while questioning how narratives and visibility are controlled and reclaimed. Special attention is paid to the various processes of photography as artists demonstrate contemporary approaches to wet plate\, photogravure\, and other techniques. \nIn partnership with Art Bridges\, the Art Center is proud to host In Conversation: Will Wilson in the Main Gallery. In Conversation presents the works of Diné (Navajo) photographer Will Wilson (b. 1969) and Edward Sheriff Curtis (1868–1952). \nThe investigation of artists’ use of portraiture continues in the Mitzi and Warren Eisenberg Gallery with Gabriel Garcia Roman’s solo exhibition Present and Growing. Featured in this solo exhibition are not only his best-known portrait series\, “Queer Icons\,” but also a range of his works that capture his experiences as a queer Mexican-born artist from a working-class family. \nIn the Art Center’s Marité and Joe Robinson Strolling Gallery I\, photographer Chrystofer Davis captures the portrait of a city in his exhibition With Passing Years. In a selection of photos of his hometown of Newark\, NJ\, Davis showcases the personality of the Four Corners District\, combining his work with archival photos courtesy of the Newark Public Library to reveal the many lives the city has lived.
URL:https://www.artcenternj.org/event/spring-exhibitions-opening/
LOCATION:Visual Arts Center of New Jersey\, 68 Elm Street\, Summit\, NJ\, 07901\, United States
ATTACH;FMTTYPE=image/png:https://www.artcenternj.org/wp-content/uploads/2026/02/Gabriel-Garcia-RomanEVENT.png
END:VEVENT
BEGIN:VEVENT
DTSTART;TZID=UTC:20260227T190000
DTEND;TZID=UTC:20260227T200000
DTSTAMP:20260425T222238
CREATED:20251219T205623Z
LAST-MODIFIED:20251223T205127Z
UID:11054-1772218800-1772222400@www.artcenternj.org
SUMMARY:Vivid Stage Pop Up Show
DESCRIPTION:Vivid Stage\, in residence at Oakes Center at 120 Morris Avenue in Summit\, will bring a fresh format of theatre to the community on Friday\, February 27\, at the Visual Arts Center of New Jersey. This will be a Pop-Up show that will happen for one night only. The unscripted story will be improvised by the Vivid company of actors\, and will take place among the VACNJ audience members. \nTickets: $25 general admission. Click here to purchase. \nFor more information about Vivid Stage\, click here!
URL:https://www.artcenternj.org/event/vivid-stage-pop-up-show/
LOCATION:Visual Arts Center of New Jersey\, 68 Elm Street\, Summit\, NJ\, 07901\, United States
ATTACH;FMTTYPE=image/jpeg:https://www.artcenternj.org/wp-content/uploads/2025/12/Pop-Up-Graphic-EVENT.jpg
END:VEVENT
BEGIN:VEVENT
DTSTART;VALUE=DATE:20260330
DTEND;VALUE=DATE:20260404
DTSTAMP:20260425T222238
CREATED:20260115T172712Z
LAST-MODIFIED:20260316T183912Z
UID:11112-1774828800-1775260799@www.artcenternj.org
SUMMARY:Spring Break Art Camp for Kids & Tweens
DESCRIPTION:Join us for a special small group Spring Break Art Camp for kids ages 6–9 and tweens ages 10–12! At the Art Center\, young artists will learn from our talented teaching artists\, create unique art projects\, and socialize with friends. This half-day camp (morning session for kids and afternoon session for tweens) will feature art-making in a small group environment. Please send campers with a water bottle and snack only (there will not be a lunch period)\, and in clothes that can get messy. \n  \nKids Camp (ages 6–9) WAITLIST ONLY\n8:45–9 AM: Drop-off\n9 AM–12 PM: Artmaking Sessions\n12–12:15 PM: Pick-up \nTweens (ages 10–12)\n12:45–1 PM: Drop-off\n1–4 PM: Artmaking Sessions\n4–4:15 PM: Pick-up
URL:https://www.artcenternj.org/event/spring-break-art-camp-for-kids-tweens/
LOCATION:NJ
ATTACH;FMTTYPE=image/jpeg:https://www.artcenternj.org/wp-content/uploads/2023/05/Summer-Camp23-Week-8.jpg
END:VEVENT
BEGIN:VEVENT
DTSTART;VALUE=DATE:20260330
DTEND;VALUE=DATE:20260331
DTSTAMP:20260425T222238
CREATED:20260302T173735Z
LAST-MODIFIED:20260302T173735Z
UID:11303-1774828800-1774915199@www.artcenternj.org
SUMMARY:Spring Semester Begins
DESCRIPTION:Spring Semester classes begin March 30\, but spots are filling fast. Click here to see all that’s available and sign up today!
URL:https://www.artcenternj.org/event/spring-semester-begins-4/
LOCATION:NJ
ATTACH;FMTTYPE=image/png:https://www.artcenternj.org/wp-content/uploads/2026/03/Spring-Semester-800-x-610-px.png
END:VEVENT
BEGIN:VEVENT
DTSTART;TZID=UTC:20260425T180000
DTEND;TZID=UTC:20260425T230000
DTSTAMP:20260425T222238
CREATED:20260114T164326Z
LAST-MODIFIED:20260424T131510Z
UID:11096-1777140000-1777158000@www.artcenternj.org
SUMMARY:Annual Spring Gala: Art Empowers
DESCRIPTION:Our annual spring gala is Saturday\, April 25\, 2026\, and whether you’ll be celebrating with us on-site or sending good vibes from home\, you can get in on the fun AND help the Art Center at the same time. Click here to be in our silent auction and get yourself a fantastic piece of artwork!
URL:https://www.artcenternj.org/event/annual-spring-gala-art-empowers/
LOCATION:Canoe Brook Country Club\, 1108 Morris Tpke\, Summit\, NJ\, 07901
ATTACH;FMTTYPE=image/jpeg:https://www.artcenternj.org/wp-content/uploads/2026/01/Silent-Auction-is-Live-800-x-610-px-1.jpg
END:VEVENT
BEGIN:VEVENT
DTSTART;TZID=UTC:20260507T120000
DTEND;TZID=UTC:20260507T140000
DTSTAMP:20260425T222238
CREATED:20260330T200355Z
LAST-MODIFIED:20260423T210419Z
UID:11372-1778155200-1778162400@www.artcenternj.org
SUMMARY:Midday Gardening Tour with Artist-in-Residence Gabriella D'Italia - Summit First Thursday
DESCRIPTION:After a short hiatus\, Summit First Thursday is returning on May 7\, 2026—and this year it’s expanding to all-day events across Summit.  \n\nOn the first Thursday of each month\, local galleries\, shops\, restaurants\, and cultural spaces host special experiences that make it easy (and fun) to explore the creative side of Summit. You might stop in to meet a local artist\, see a new exhibition\, enjoy a free activity\, or sample a complimentary bite or drink while discovering a business you’ve never visited before.\n\nThe Art Center will feature: \n\nMidday Gardening Tour with Artist-in-Residence Gabriella D’Italia \n12–2 PM\nJoin artist-in-residence Gabriella D’Italia for a midday stroll through our green space\, where you’ll learn about local plants and gardening tips.\nCLICK HERE TO REGISTER FOR THE FREE EVENT
URL:https://www.artcenternj.org/event/summit-first-thursday-4/
LOCATION:Visual Arts Center of New Jersey\, 68 Elm Street\, Summit\, NJ\, 07901\, United States
ATTACH;FMTTYPE=image/jpeg:https://www.artcenternj.org/wp-content/uploads/2026/03/Artist-in-Residence-Gabriella-DItalia-800-x-610-px.jpg
END:VEVENT
BEGIN:VEVENT
DTSTART;TZID=UTC:20260507T173000
DTEND;TZID=UTC:20260507T190000
DTSTAMP:20260425T222238
CREATED:20260423T211339Z
LAST-MODIFIED:20260423T211453Z
UID:11484-1778175000-1778180400@www.artcenternj.org
SUMMARY:An Evening in the Galleries - Summit First Thursday
DESCRIPTION:After a short hiatus\, Summit First Thursday returns on May 7\, 2026—and this year it’s expanding to all-day events across Summit. \n\nOn the first Thursday of each month\, local galleries\, shops\, restaurants\, and cultural spaces host special experiences that make it easy (and fun) to explore the creative side of Summit. You might stop in to meet a local artist\, see a new exhibition\, enjoy a free activity\, or sample a complimentary bite or drink while discovering a business you’ve never visited before.\n\nThe Art Center will feature: \nAn Evening in the Galleries\nStop by to see our Spring Exhibitions\, enjoy light refreshments\, and connect with fellow art enthusiasts. \nCLICK HERE TO REGISTER FOR THE FREE EVENT \nFeatured Exhibitions: \nIn Conversation: Will Wilson\nMain Gallery\nPresented in partnership with Art Bridges \nPresent and Growing\nMitzi and Warren Eisenberg Gallery\nPresenting work by artist Gabriel Garcia Roman \nWith Passing Years\nMarité and Joe Robinson Strolling Gallery I\nPresenting work by artist Chrystofer Davis
URL:https://www.artcenternj.org/event/an-evening-in-the-galleries-summit-first-thursday/
LOCATION:NJ
ATTACH;FMTTYPE=image/jpeg:https://www.artcenternj.org/wp-content/uploads/2026/04/aVACNJ_021326-088EVENT.jpg
END:VEVENT
BEGIN:VEVENT
DTSTART;TZID=UTC:20260517T120000
DTEND;TZID=UTC:20260517T150000
DTSTAMP:20260425T222238
CREATED:20260423T174448Z
LAST-MODIFIED:20260423T180905Z
UID:11478-1779019200-1779030000@www.artcenternj.org
SUMMARY:Artist Talk with Gabriel Garcia Roman & Chrystofer Davis
DESCRIPTION:Join us on May 17 from 12–3 PM for a conversation on art and identity with Gabriel Garcia Roman and Chrystofer Davis. Gabriel and Chrystofer will discuss their exhibitions\, currently on display at the Art Center\, the inspiration that has shaped their art\, and their thoughts on the meaning of identity. Mimosas and light fare will be served! \nCLICK HERE TO REGISTER \nIf you wish to attend\, but payment is a barrier\, please get in touch with Director of Development & Communication Samantha Davis at sdavis@artcenternj.org
URL:https://www.artcenternj.org/event/artist-talk-with-gabriel-garcia-roman-chrystofer-davis/
LOCATION:Visual Arts Center of New Jersey\, 68 Elm Street\, Summit\, NJ\, 07901\, United States
ATTACH;FMTTYPE=image/jpeg:https://www.artcenternj.org/wp-content/uploads/2026/04/Artist-Talk-May17-Event-Calendar.jpg
END:VEVENT
BEGIN:VEVENT
DTSTART;TZID=UTC:20260606T100000
DTEND;TZID=UTC:20260606T140000
DTSTAMP:20260425T222238
CREATED:20260326T203124Z
LAST-MODIFIED:20260327T201531Z
UID:11362-1780740000-1780754400@www.artcenternj.org
SUMMARY:Community Day
DESCRIPTION:On June 6\, 2026\, the Visual Arts Center of New Jersey will celebrate its spring exhibitions with a Community Day event. The day\, which will feature artist-led walks around Summit\, a live podcast recording\, and drop-in workshops\, will run from 10 AM to 2 PM. Click here to register. \nSchedule of Events: \nArt Walks in Summit with Exhibiting Artist Chrystofer Davis\nStep outside for guided photo-based walks through Summit\, led by artist Chrystofer Davis. Participants are encouraged to observe\, document\, and reflect on their surroundings using smartphones or disposable cameras (available as needed). Walks will take place at 10:15 AM\, 11:15 AM\, and 1:15 PM. \nLive Podcast Recording with Jordan Horton & Dennis Redmoon Darkeem\nJoin us for a live podcast recording featuring a conversation between podcast host and Indigenous artist Dennis Redmoon Darkeem and Art Center Curator Jordan Horton. Together\, they’ll discuss art\, identity\, and creative practice. This recording will take place in the Main Gallery from 12 to 1 PM. \nPortraiture Booth & Queer Icon Drop-In Workshop with Exhibiting Artist Gabriel Garcia Roman\nStep into the portraiture booth and explore self-expression through photography using a variety of props—participants are invited to represent themselves in any way they choose. Then\, join the drop-in workshop inspired by Gabriel Garcia Roman’s Queer Icons series\, where you can transform your portrait (or images provided by the artist) into your own personalized queer icon artwork. The portraiture booth will be available from 10:00 AM to 12:00 PM. Queer Icon Workshops will take place from 11 AM to 12 PM and 1 to 2 PM. \nPinhole Camera Station\nExplore the magic of analog photography at our all-day pinhole camera station\, led by artist James Provenzano. Learn how pinhole photography works and create your own images in this hands-on activity for all ages. This station will be available to the public from 10 AM to 2 PM on the Art Center lawn.
URL:https://www.artcenternj.org/event/community-day/
LOCATION:Visual Arts Center of New Jersey\, 68 Elm Street\, Summit\, NJ\, 07901\, United States
ATTACH;FMTTYPE=image/png:https://www.artcenternj.org/wp-content/uploads/2026/03/Community-Day-800-x-610-px-1.png
END:VEVENT
BEGIN:VEVENT
DTSTART;VALUE=DATE:20260615
DTEND;VALUE=DATE:20260616
DTSTAMP:20260425T222238
CREATED:20260417T174333Z
LAST-MODIFIED:20260417T174333Z
UID:11466-1781481600-1781567999@www.artcenternj.org
SUMMARY:Summer Camp Begins
DESCRIPTION:Summer Art Camp at the Art Center begins today! Sign up now and give your child their most creative summer EVER! \nClick here for more information and to register.
URL:https://www.artcenternj.org/event/summer-camp-begins/
LOCATION:NJ
ATTACH;FMTTYPE=image/png:https://www.artcenternj.org/wp-content/uploads/2026/04/Summer-Camp-26-NJ-Kids-Ad-800-x-610-px.png
END:VEVENT
BEGIN:VEVENT
DTSTART;VALUE=DATE:20260622
DTEND;VALUE=DATE:20260623
DTSTAMP:20260425T222238
CREATED:20260327T201136Z
LAST-MODIFIED:20260327T201136Z
UID:11369-1782086400-1782172799@www.artcenternj.org
SUMMARY:Arts & Cars 2026 Early-Bird Deadline
DESCRIPTION:Do you have art or crafts you want to show and sell? The Visual Arts Center of New Jersey and Summit Downtown are thrilled to once again be hosting an outdoor art festival in beautiful downtown Summit! The event will work alongside local businesses and the Summit Farmers Market and will include a car show\, stage with musical performances all day long\, and a beer garden. The event always attracts large audiences. \nTo learn more\, and apply before the early-bird deadline\, click here.
URL:https://www.artcenternj.org/event/arts-cars-2026-early-bird-deadline/
LOCATION:NJ
ATTACH;FMTTYPE=image/jpeg:https://www.artcenternj.org/wp-content/uploads/2023/03/Arts-Cars23-Cropped-Event.jpg
END:VEVENT
END:VCALENDAR