BEGIN:VCALENDAR
VERSION:2.0
PRODID:-//Visual Arts Center of New Jersey - ECPv6.15.20//NONSGML v1.0//EN
CALSCALE:GREGORIAN
METHOD:PUBLISH
X-WR-CALNAME:Visual Arts Center of New Jersey
X-ORIGINAL-URL:https://www.artcenternj.org
X-WR-CALDESC:Events for Visual Arts Center of New Jersey
REFRESH-INTERVAL;VALUE=DURATION:PT1H
X-Robots-Tag:noindex
X-PUBLISHED-TTL:PT1H
BEGIN:VTIMEZONE
TZID:UTC
BEGIN:STANDARD
TZOFFSETFROM:+0000
TZOFFSETTO:+0000
TZNAME:UTC
DTSTART:20190101T000000
END:STANDARD
END:VTIMEZONE
BEGIN:VEVENT
DTSTART;VALUE=DATE:20200727
DTEND;VALUE=DATE:20200801
DTSTAMP:20260422T222028
CREATED:20200616T191705Z
LAST-MODIFIED:20200616T191705Z
UID:2227-1595808000-1596239999@www.artcenternj.org
SUMMARY:Online Art Camp: Week 6
DESCRIPTION:Kid Art Camp: Color Explosion\nJuly 27–31\, 1–4:30 PM  (ages 6–7)\nJuly 27–31\, 1–4:30 PM  (ages 8–9) \nExplore color! This camp introduces kids to the fun pop-art movement and other ways in which bright and bold colors can be used in artwork. Kids will create projects that play with the use of colors\, such as landscape paintings using basics of color theory and complementary color illustrations. In addition to the art supplies in this week’s supply kit\, you will need to have the following: something to cover your work surface (newspaper\, plastic tablecloth\, etc.)\, 1 pair of scissors\, 1 ruler\, and 1 small container for paint water (such as a single serving yogurt cup). \n  \nTween Art Camp: Illustration and Character Design\nJuly 27–31\, 1–4:30 PM\nCreate your own characters for comics and storybooks! Tweens will explore gesture drawing\, perspective\, foreshortening\, and figurative anatomy in order to draw amazing comics. Instruction will also cover illustrating facial expressions for characters\, as well as developing facial features and structure. In addition to the art supplies in this week’s supply kit\, you will need to have the following: something to cover your work surface (newspaper\, plastic table cloth\, etc.)\, 1 pencil\, 1 eraser\, and 1 pencil sharpener.
URL:https://www.artcenternj.org/event/online-art-camp-week-6/
ATTACH;FMTTYPE=image/jpeg:https://www.artcenternj.org/wp-content/uploads/2020/06/Online-Camp2-scaled.jpg
END:VEVENT
BEGIN:VEVENT
DTSTART;TZID=UTC:20200724T170000
DTEND;TZID=UTC:20200724T180000
DTSTAMP:20260422T222028
CREATED:20200709T205609Z
LAST-MODIFIED:20200709T205609Z
UID:2397-1595610000-1595613600@www.artcenternj.org
SUMMARY:Sip and Cinema - Ursula Von Rydingsvard: Into Her Own
DESCRIPTION:The Visual Arts Center of New Jersey is once again partnering with The Film Society of Summit for a virtual Sip and Cinema: Art Edition for the film “Ursula Von Rydingsvard: Into Her Own.”\nUrsula von Rydingsvard: Into Her Own is an artistic biography of one of the few women in the world working in monumental sculpture.\n\nThis edition will take place on Zoom on Friday\, July 24\, from 5–6 PM. VACNJ curator Mary Birmingham will lead our happy hour discussion. Please check back soon for possible wine pairings!\n\nPlease watch the film at your leisure prior to the discussion. (Visit https://vimeo.com/ondemand/ursulaatfss to rent and stream the film).\n\nThe Zoom virtual discussion is free to join. Please visit\nhttps://us02web.zoom.us/meeting/register/tZEsce6hrDgvE9KbYJGjCUw6hAbZ6YJ0SYRx to register.
URL:https://www.artcenternj.org/event/sip-and-cinema-ursula-von-rydingsvard-into-her-own/
ATTACH;FMTTYPE=image/jpeg:https://www.artcenternj.org/wp-content/uploads/2020/07/Into-Her-Own-Event-Image-scaled.jpg
END:VEVENT
BEGIN:VEVENT
DTSTART;VALUE=DATE:20200720
DTEND;VALUE=DATE:20200725
DTSTAMP:20260422T222028
CREATED:20200616T201453Z
LAST-MODIFIED:20200616T201453Z
UID:2245-1595203200-1595635199@www.artcenternj.org
SUMMARY:In-Person Art Camp: Week 3
DESCRIPTION:Kid Art Camp\nMini Masters >\n\nJuly 20–24\, 10 AM–3 PM\nKids become mini masters while experimenting with art media used by famous artists. Create a Monet-inspired watercolor painting\, a clay sculpture based on the work of Salvador Dali\, and a drawing in the style of Joan Miro\, among other projects celebrating art history. \n  \nTween Art Camp\nIllustration and Character Design and Sculpture Techniques\n\nJuly 20–24\, 10 AM–3 PM\nIllustration and Character Design: Create your own characters for comics and story books! Tweens will explore gesture drawing\, perspective\, foreshortening\, and figurative anatomy in order to draw amazing comics. Instruction will also cover illustrating facial expressions for characters\, as well as developing facial features and structure.\nSculpture Techniques: Create art in the round! Tweens will learn to use sculpting tools and techniques to create 3D sculptures. Tweens will go beyond just the hand-building process—they will learn more advanced techniques to refine and build their sculptures with carving tools. Students will work with a variety of sculpture materials and complete a 3D sculpture during\nthis camp. \n  \nTeen Art Camp\nGraffiti and Jewelry Design >\n\nJuly 20–24\, 10 AM–3 PM\nNEW! Graffiti: Make art with your mark! Teens will create their own tag using soft and sharp shapes\, wild style\, or Gothic font. Learn how to create 3D letters using perspective and make connected letters that flow. Teens will draw a background setting and arrange graffiti into an aesthetically pleasing composition. Finally\, teens will build their own 3D- graffiti wall and tag it! Fine art concepts such as composition\, perspective\, color theory\, and sculpting methods will all be taught alongside graffiti techniques.\nJewelry Design: Make your own jewelry! Teens will experiment with jewelry-making techniques to create rings\, pendants\, and bracelets of their own original designs. After starting with a sketch\, the instructor will help campers use a variety of materials to create their vision. Projects may include\, but are not limited to\, wrapped wire pendants and rings\, polymer clay canes\, and recycled paper beads.
URL:https://www.artcenternj.org/event/in-person-art-camp-week-3/
ATTACH;FMTTYPE=image/jpeg:https://www.artcenternj.org/wp-content/uploads/2020/06/Camp-Week-3-scaled.jpg
END:VEVENT
BEGIN:VEVENT
DTSTART;VALUE=DATE:20200720
DTEND;VALUE=DATE:20200725
DTSTAMP:20260422T222028
CREATED:20200616T191355Z
LAST-MODIFIED:20200616T191355Z
UID:2225-1595203200-1595635199@www.artcenternj.org
SUMMARY:Online Art Camp: Week 5
DESCRIPTION:Kid Art Camp Animals & Wildlife Art\nJuly 20–24\, 1–4:30 PM (ages 6–7)\nJuly 20–24\, 1–4:30 PM (ages 8–9) \nThis week of camp is like taking a trip to the zoo\, but way more creative! Explore the exciting world of animals and their amazing habitats. Kids will create projects such as koala bears in pastel\, colorful elephant drawings\, and giraffe sculptures. In addition to the art supplies in this week’s supply kit\, you will need to have the following: computer\, tablet\, or phone with access to internet and Zoom: something to cover your work surface (newspaper\, plastic tablecloth\, etc.)\, 1 pair of scissors\, 1 ruler\, and 1 small container for paint water (such as a single serving yogurt cup)\, 1 container for mixing papier-mâché paste about the size of a mixing bowl (could be disposable such as a foil baking tray). \n  \nTween Art Camp: Essential Drawing and Painting Techniques\nJuly 20–24\, 1–4:30 PM\nThis camp is perfect for the tween looking to develop the foundational skills of drawing and painting. Tweens will use their observational skills and gain familiarity with diverse media (such as graphite\, charcoal\, acrylics\, and watercolors) through drawing exercises that may include gesture drawings\, blind contours\, and contour drawings. Linear perspective\, color theory\, and building form with light and shadow will also be covered as tweens render their artistic creations. In addition to the art supplies in this week’s supply kit\, you will need to have the following: something to cover your work surface (newspaper\, plastic tablecloth\, etc.)\, 1 pair of scissors\, 1 ruler\, and 1 small container for paint water (such as a single serving yogurt cup).
URL:https://www.artcenternj.org/event/online-art-camp-week-5/
ATTACH;FMTTYPE=image/jpeg:https://www.artcenternj.org/wp-content/uploads/2020/06/Online-Camp-scaled.jpg
END:VEVENT
BEGIN:VEVENT
DTSTART;TZID=UTC:20200714T130000
DTEND;TZID=UTC:20200714T133000
DTSTAMP:20260422T222028
CREATED:20200701T183732Z
LAST-MODIFIED:20200701T183732Z
UID:2312-1594731600-1594733400@www.artcenternj.org
SUMMARY:Make Your Charitable Dollars Go Further
DESCRIPTION:The Visual Arts Center of New Jersey and Point View Wealth Management invite you to learn how to benefit your favorite charity while reducing your own tax bill. Point View’s David Dietze and Claire Toth will share strategies to do good and save money. \nRegistration link: https://zoom.us/webinar/register/WN_nn1BLTUMRg2ge7-KdAXSDA
URL:https://www.artcenternj.org/event/make-your-charitable-dollars-go-further/
ATTACH;FMTTYPE=image/jpeg:https://www.artcenternj.org/wp-content/uploads/2020/07/POINT-VIEW-scaled.jpg
END:VEVENT
BEGIN:VEVENT
DTSTART;VALUE=DATE:20200713
DTEND;VALUE=DATE:20200718
DTSTAMP:20260422T222028
CREATED:20200616T200837Z
LAST-MODIFIED:20200616T200837Z
UID:2243-1594598400-1595030399@www.artcenternj.org
SUMMARY:In-Person Art Camp: Week 2
DESCRIPTION:Kid Art Camp\nColor Explosion >\nJuly 13–17\, 10 AM–3 PM\nExplore color! This camp introduces kids to the fun pop-art movement and other ways in which bright and bold colors can be used in artwork. Kids will create projects that play with the use of colors\, such as landscape paintings using basics of color theory and complementary color illustrations. \n  \nTween Art Camp\nDrawing Portraits and Watercolor Exploration\n\nJuly 13–17\, 10 AM–3 PM\nDrawing Portraits: Take your observational drawing skills to the next level! Tweens will draw directly from a life portrait model\, focusing on the features of the human face. This camp will explore light and shading\, allowing tweens to gain a better understanding of the facial structure through demonstration and drawing exercises.\nNEW! Watercolor Exploration: Watercolor is a classic painting medium that builds upon drawing skills while also incorporating principles of color theory. The foundations of watercolor painting and color mixing will be explored as tweens are introduced to a variety of techniques\, including basic washes\, layering of paints\, and how to create strong compositions with the interplay of dark and light values. \n  \nTeen Art Camp\nPrintmaking Techniques and Experimental Fashion >\nJuly 13–17\, 10 AM–3 PM\nPrintmaking Techniques: In this unique camp\, teens will create their own limited-edition prints on our professional presses! Teens will learn various techniques\, styles\, and tools of the printmaking trade through demonstrations and hands-on practice. This camp will cover techniques including plexi-glass etching and mono-printing\, as teens create original prints that are either one-of-a-kind or editionable!\nExperimental Fashion: Create fashion! Teens will explore traditional and non-traditional fashion design\, including sketching concepts and bringing them to fruition\, making anything from everyday clothing items\, to cosplay! Multiple sewing and fabricating techniques will be covered while teens create their own wearable art. Pre-made clothing templates will be available\, but students will also have the opportunity to design their own patterns with the instructor’s guidance. \n  \n 
URL:https://www.artcenternj.org/event/in-person-art-camp-week-2/
ATTACH;FMTTYPE=image/jpeg:https://www.artcenternj.org/wp-content/uploads/2020/06/Camp-Week-2-scaled.jpg
END:VEVENT
BEGIN:VEVENT
DTSTART;VALUE=DATE:20200713
DTEND;VALUE=DATE:20200718
DTSTAMP:20260422T222028
CREATED:20200616T191048Z
LAST-MODIFIED:20200616T191048Z
UID:2223-1594598400-1595030399@www.artcenternj.org
SUMMARY:Online Art Camp: Week 4
DESCRIPTION:Kid Art Camp: Summer Fun\nJuly 13–17\, 1–4:30 PM (ages 6–7)\nJuly 13–17\, 1–4:30 PM (ages 8–9) \nImagine all the possibilities of summer! At this online camp\, kids will create art inspired by classic summer pastimes\, including a 3D-sunbather sculpture\, a mixed-media flip-flop collage\, and a watercolor-bicycle painting. In addition to the art supplies in this week’s supply kit\, you will need to have the following: something to cover your work surface (newspaper\, plastic tablecloth\, etc.)\, 1 pair of scissors\, 1 ruler\, and 1 small container for paint water (such as a single serving yogurt cup). \n  \nTween Art Camp: Sculpture Techniques\nJuly 13–17\, 1–4:30 PM\nCreate art in the round! Tweens will learn to use sculpting tools and techniques to create 3D sculptures. Tweens will go beyond just the hand-building process—they will learn more advanced techniques to refine and build their sculptures. Students will work with a variety of sculpture materials and complete a 3D sculpture during this camp. In addition to the art supplies in this week’s supply kit\, you will need to have the following: something to cover your work surface (newspaper\, plastic tablecloth\, etc.)\, 1 pair of scissors\, 1 ruler\, and 1 small container for paint water (such as a single serving yogurt cup)\, 3¬–4 feet of aluminum foil\, and 1 rolling pin or something you can use as a roller such as a tall cup or a wooden dowel.
URL:https://www.artcenternj.org/event/online-art-camp-week-4/
ATTACH;FMTTYPE=image/jpeg:https://www.artcenternj.org/wp-content/uploads/2020/06/Online-Camp2-scaled.jpg
END:VEVENT
BEGIN:VEVENT
DTSTART;VALUE=DATE:20200708
DTEND;VALUE=DATE:20200709
DTSTAMP:20260422T222028
CREATED:20200616T195110Z
LAST-MODIFIED:20200617T133935Z
UID:2231-1594166400-1594252799@www.artcenternj.org
SUMMARY:Summer Semester Begins
DESCRIPTION:Summer semester classes begin on July 8 and in addition to the wonderful art instruction you’ve come to love\, our summer semester will feature enhanced safety measures\, including enrollment caps to ensure smaller classes\, face masks worn by all students and instructors\, and social distancing in the studio. Smaller classes mean fewer students and spots are filling fast. Give yourself the creative summer you’ve been waiting for. Sign up today!
URL:https://www.artcenternj.org/event/summer-semester-begins/
ATTACH;FMTTYPE=image/jpeg:https://www.artcenternj.org/wp-content/uploads/2020/06/In-Person-Camp2-scaled.jpg
END:VEVENT
BEGIN:VEVENT
DTSTART;VALUE=DATE:20200706
DTEND;VALUE=DATE:20200711
DTSTAMP:20260422T222028
CREATED:20200616T200249Z
LAST-MODIFIED:20200616T200249Z
UID:2233-1593993600-1594425599@www.artcenternj.org
SUMMARY:In-Person Art Camp: Week 1
DESCRIPTION:Kid Art Camp\nAnimals & Wildlife Art >\nJuly 6–10\, 10 AM–3 PM\nThis week of camp is like taking a trip to the zoo\, but way more creative! Explore the exciting world of animals and their amazing habitats. Kids will create projects such as koala bears in pastel\, colorful elephant drawings\, and clay fish sculptures. \n  \nTween Art Camp\nFiber Sculptures and Intro to Webcomics >\n\nJuly 6–10\, 10 AM–3 PM\nFiber Sculptures: Incorporate pattern and texture into sculpture through the use of fiber! Tweens will learn to bring their ideas and sketches to life\, creating anything from plushies to abstract sculptures! While basic sewing may be involved\, tweens will also explore other techniques to build their fiber sculptures. Pre-made patterns will be available\, but with the guidance of their instructor\, tweens can also create their own templates for original designs.\nIntro to Webcomics: Explore the world of webcomics! Tweens will learn various techniques for comics\, as well as discuss strategies for starting and maintaining a successful project on the web. Campers will focus on improving their artistic skills\, and will touch on ways in which they can safely and effectively use the web to their advantage. They will also discuss the best ways to manage consistent updates of their work online. \n  \nTeen Art Camp\nExpressive Ceramics (3 day) & Comic Book Illustration (2 day) and Assemblage >\n\nJuly 6–10\, 10 AM–3 PM\nExpressive Ceramics (3 day): Campers will start with the fundamentals of hand-building\, wheel throwing\, and applying glazes\, as teens create expressive works of art in clay.\nComic Book Illustration (2 day): Teens will imagine and bring to life their own comic book characters! Teens will learn different illustration techniques and styles to help them create an expressive and unique cast of characters. Once students have designed and developed their characters\, they will create a comic strip featuring their newly imagined cast.\nAssemblage: Teens will transform everyday items into expressive\, personal sculptures! Imagine all the artistic possibilities in combining materials such as paper\, plastic\, clay\, and wire with found objects. Through demonstrations and hands-on practice\, teens will learn various techniques to manipulate the materials and create one-of-a-kind sculptures.
URL:https://www.artcenternj.org/event/in-person-art-camp-week-1/
ATTACH;FMTTYPE=image/jpeg:https://www.artcenternj.org/wp-content/uploads/2020/06/Camp-Week-1-scaled.jpg
END:VEVENT
BEGIN:VEVENT
DTSTART;VALUE=DATE:20200706
DTEND;VALUE=DATE:20200711
DTSTAMP:20260422T222028
CREATED:20200616T190624Z
LAST-MODIFIED:20200617T133740Z
UID:2221-1593993600-1594425599@www.artcenternj.org
SUMMARY:Online Art Camp: Week 3
DESCRIPTION:Kid Art Camp: Art Around America\nJuly 6–10\, 1–4:30 PM (ages 6–7)\nJuly 6–10\, 1–4:30 PM (ages 8–9) \nCelebrate Independence Day through artwork inspired by American artists and famous landmarks. During this holiday week\, we’ll make art projects such as a papier-mâché bald-eagle sculpture and a painting inspired by American artist Alexander Calder. In addition to the art supplies in this week’s supply kit\, you will need to have the following: something to cover your work surface (newspaper\, plastic tablecloth\, etc.)\, 1 pair of scissors\, 1 ruler\, and 1 small container for paint water (such as a single serving yogurt cup)\, and 1 container for mixing papier-mâché paste about the size of a mixing bowl (could be disposable such as a foil baking tray). \n  \nTween Art Camp: Art Journaling\nJuly 6–10\, 1–4:30 PM\nArt journaling is a wonderful habit for everyone\, not just artists! Keeping a journal that contains one’s inspirations\, frustrations\, dreams\, and fears is a way to creatively process everyday life. Tweens will make their own journal with simple bookbinding techniques and will fill its pages both inside and outside of camp. We’ll also encourage tweens to share their journaling journey during camp. In addition to the art supplies in this week’s supply kit\, you will need to have the following: something to cover your work surface (newspaper\, plastic tablecloth\, etc.)\, 1 pair of scissors\, 1 ruler\, and 1 small container for paint water (such as a single serving yogurt cup)\, newspaper and magazines that you can cut up.
URL:https://www.artcenternj.org/event/online-art-camp-week-3/
ATTACH;FMTTYPE=image/jpeg:https://www.artcenternj.org/wp-content/uploads/2020/06/Online-Camp-scaled.jpg
END:VEVENT
BEGIN:VEVENT
DTSTART;VALUE=DATE:20200629
DTEND;VALUE=DATE:20200704
DTSTAMP:20260422T222028
CREATED:20200616T190207Z
LAST-MODIFIED:20200616T190207Z
UID:2217-1593388800-1593820799@www.artcenternj.org
SUMMARY:Online Art Camp: Week 2
DESCRIPTION:Kid Art Camp: Art & Nature\nMorning Session (ages 6–7): June 29–July 3\, 9–12:30 PM\nMorning Session (ages 8–9): June 29–July 3\, 9–12:30 PM\nAfternoon Session (ages 6–7): June 29–July 3\, 1–4:30 PM\nAfternoon Session (ages 8–9): June 29–July 3\, 1–4:30 PM \nSummer is the perfect time to find beauty in our natural world and celebrate it through art. Kids will be inspired by nature to create projects such as nature-echo drawings and paintings of dandelion puffs on a windy day. This week has schedule options for morning camp and afternoon camp (the same lessons will be offered in the morning and afternoon sessions.) In addition to the art supplies in this week’s supply kit\, you will need to have the following: something to cover your work surface (newspaper\, plastic tablecloth\, etc.)\, 1 pair of scissors\, 1 ruler\, and 1 small container for paint water (such as a single serving yogurt cup). \n  \nTween Art Camp: Essential Drawing and Painting Techniques\nJune 29–July 3\, 1–4:30 PM\nThis camp is perfect for the tween looking to develop the foundational skills of drawing and painting who is ready for more in-depth instruction. Tweens will experience a combination of a live hour and a half of online instruction through Zoom and daily video lessons that the student will use to help them complete independent assignments that the instructor will review during the week. Tweens will use their observational skills and gain familiarity with diverse media (such as graphite\, charcoal\, acrylics\, and watercolors) through drawing exercises that may include gesture drawings\, blind contours\, and contour drawings. Linear perspective\, color theory\, and building form with light and shadow will also be covered as tweens render their artistic creations. In addition to the art supplies in this week’s supply kit\, you will need to have the following: something to cover your work surface (newspaper\, plastic table cloth\, etc.)\, 1 pencil\, 1 eraser\, and 1 container for paint water (such as a single serving yogurt cup). \n  \nTeen Art Camp: Figure Drawing\nJune 29–July 3\, 1–4:30 PM\nRefine your observational drawing skills! Through observational studies of a clothed life figure model\, teens will learn to draw the human form. This camp will explore light and shading\, as well as study major forms and contours\, to gain a better understanding of anatomical accuracy in figural renderings. All work will be completed in black and white. In addition to the art supplies in this week’s supply kit\, you will need to have the following: something to cover your work surface (newspaper\, plastic table cloth\, etc.)\, 1 pencil\, 1 eraser\, 1 pencil sharpener.
URL:https://www.artcenternj.org/event/online-art-camp-week-2/
ATTACH;FMTTYPE=image/jpeg:https://www.artcenternj.org/wp-content/uploads/2020/06/Online-Camp2-scaled.jpg
END:VEVENT
BEGIN:VEVENT
DTSTART;TZID=UTC:20200529T170000
DTEND;TZID=UTC:20200529T180000
DTSTAMP:20260422T222028
CREATED:20200507T143517Z
LAST-MODIFIED:20200518T212229Z
UID:2048-1590771600-1590775200@www.artcenternj.org
SUMMARY:Sip and Cinema - Beyond the Visible: Hilma af Klint
DESCRIPTION:The Visual Arts Center of New Jersey is partnering with The Film Society of Summit for a series of art films in May. This virtual Sip and Cinema: Art Edition will take place on Zoom every other Friday from 5–6 PM. VACNJ curator Mary Birmingham will lead our next happy hour discussion with Director Halina Dryschka on Friday\, May 29 about her film Beyond the Visible: Hilma af Klint. Please check back soon for possible wine pairings! \nPlease watch the film at your leisure prior to the discussion. Visit the Film Society of Summit’s website for instructions to rent and stream the film (www.summitfilmsociety.com). A portion of all ticket sales will be donated to FLAG – Summit’s ‘Front Line Appreciation Group.’ \nThe Zoom virtual discussion is free to join. Please use this link to register for the Beyond the Visible: Hilma af Klint Sip and Cinema: Art Edition Zoom Discussion.
URL:https://www.artcenternj.org/event/sip-and-cinema-beyond-the-visible-hilma-af-klint/
ATTACH;FMTTYPE=image/jpeg:https://www.artcenternj.org/wp-content/uploads/2020/05/Klint-scaled-e1588861614388.jpg
END:VEVENT
BEGIN:VEVENT
DTSTART;TZID=UTC:20200515T170000
DTEND;TZID=UTC:20200515T180000
DTSTAMP:20260422T222028
CREATED:20200505T205605Z
LAST-MODIFIED:20200505T205605Z
UID:2036-1589562000-1589565600@www.artcenternj.org
SUMMARY:Sip and Cinema - The Artist’s Garden: American Impressionism
DESCRIPTION:The Visual Arts Center of New Jersey is partnering with The Film Society of Summit for a series of art films in May. This virtual Sip and Cinema: Art Edition will take place on Zoom every other Friday from 5–6 PM. VACNJ curator Mary Birmingham will lead our next happy hour discussion on Friday\, May 15th about a film by Exhibitions on Screen: The Artist’s Garden: American Impressionism. To pair with the viewing\, we suggest an American wine that pairs with a garden-in-bloom: For whites\, try a New York State Finger Lakes Riesling\, a Pinot Gris from Oregon\, or even a Viognier from Virginia. If you are looking for a floral red\, go with a Finger Lakes Pinot Noir or Oregon Gamay (www.cambridgewinesnj.com). \nPlease watch the film at your leisure prior to the discussion. Visit the Film Society of Summit’s website for instructions to rent and stream the film (www.summitfilmsociety.com). A portion of all ticket sales will be donated to FLAG – Summit’s ‘Front Line Appreciation Group. Art Center members can get a discount on the rental by using the code “VACSipCin” at checkout. \nThe Zoom virtual discussion is free to join. Please use this link to register for The Artist’s Garden: American Impressionism Sip and Cinema: Art Edition Zoom Discussion.
URL:https://www.artcenternj.org/event/sip-and-cinema-the-artists-garden-american-impressionism/
ATTACH;FMTTYPE=image/jpeg:https://www.artcenternj.org/wp-content/uploads/2020/05/Artists-Garden-scaled-e1588712021170.jpg
END:VEVENT
BEGIN:VEVENT
DTSTART;TZID=UTC:20200501T170000
DTEND;TZID=UTC:20200501T180000
DTSTAMP:20260422T222028
CREATED:20200201T194349Z
LAST-MODIFIED:20200501T145420Z
UID:1887-1588352400-1588356000@www.artcenternj.org
SUMMARY:Sip and Cinema - Matisse: From MoMA and Tate Modern
DESCRIPTION:The Film Society of Summit and the Visual Arts Center of New Jersey are partnering for a series of art films in May\, starting this week! This virtual Sip and Cinema: Art Edition will take place on Zoom every other Friday from 5–6 PM. Join us this Friday\, May 1st for happy hour to discuss Matisse: From MoMA and Tate Modern and enjoy these possible wine pairings from the South of France where Matisse spent much of his time. Stuart Cohn\, the Art Center’s resident sommelier\, recommends a Provençal rosé or a Languedoc-Roussillon red to accompany this film. (www.cambridgewinesnj.com) \nPlease visit the Film Society of Summit’s website for instructions to rent the film as well as register for the free Zoom event with the Art Center’s curator Mary Birmingham. (www.summitfilmsociety.com)
URL:https://www.artcenternj.org/event/sip-and-cinema-matisse-from-moma-and-tate-modern/
ATTACH;FMTTYPE=image/jpeg:https://www.artcenternj.org/wp-content/uploads/2020/04/Matisse-Template.jpg
END:VEVENT
END:VCALENDAR