BEGIN:VCALENDAR
VERSION:2.0
PRODID:-//Visual Arts Center of New Jersey - ECPv6.15.20//NONSGML v1.0//EN
CALSCALE:GREGORIAN
METHOD:PUBLISH
X-WR-CALNAME:Visual Arts Center of New Jersey
X-ORIGINAL-URL:https://www.artcenternj.org
X-WR-CALDESC:Events for Visual Arts Center of New Jersey
REFRESH-INTERVAL;VALUE=DURATION:PT1H
X-Robots-Tag:noindex
X-PUBLISHED-TTL:PT1H
BEGIN:VTIMEZONE
TZID:UTC
BEGIN:STANDARD
TZOFFSETFROM:+0000
TZOFFSETTO:+0000
TZNAME:UTC
DTSTART:20240101T000000
END:STANDARD
END:VTIMEZONE
BEGIN:VEVENT
DTSTART;TZID=UTC:20250319T120000
DTEND;TZID=UTC:20250319T130000
DTSTAMP:20260425T220206
CREATED:20250303T203950Z
LAST-MODIFIED:20250303T203950Z
UID:10124-1742385600-1742389200@www.artcenternj.org
SUMMARY:Special Zoom Presentation
DESCRIPTION:Submitting an exhibition proposal can feel overwhelming\, but the Art Center is here to help! With the deadline for community gallery proposals fast approaching\, we want to make the process as smooth as possible for our members. \nTo support you\, the Members Committee is hosting a special Zoom presentation on March 19 at 12 PM\, covering everything you need to know about submitting a successful proposal. This session is free and open to all members. Click here to register. \nCan’t make it? No worries! The presentation will be recorded and shared afterward by the Art Center. Not a member? Become one today!
URL:https://www.artcenternj.org/event/special-zoom-presentation/
ATTACH;FMTTYPE=image/png:https://www.artcenternj.org/wp-content/uploads/2025/03/Zoom.png
END:VEVENT
END:VCALENDAR