BEGIN:VCALENDAR
VERSION:2.0
PRODID:-//Visual Arts Center of New Jersey - ECPv6.15.18//NONSGML v1.0//EN
CALSCALE:GREGORIAN
METHOD:PUBLISH
X-ORIGINAL-URL:https://www.artcenternj.org
X-WR-CALDESC:Events for Visual Arts Center of New Jersey
REFRESH-INTERVAL;VALUE=DURATION:PT1H
X-Robots-Tag:noindex
X-PUBLISHED-TTL:PT1H
BEGIN:VTIMEZONE
TZID:UTC
BEGIN:STANDARD
TZOFFSETFROM:+0000
TZOFFSETTO:+0000
TZNAME:UTC
DTSTART:20240101T000000
END:STANDARD
END:VTIMEZONE
BEGIN:VEVENT
DTSTART;TZID=UTC:20250120T123000
DTEND;TZID=UTC:20250120T143000
DTSTAMP:20260421T095311
CREATED:20241206T152840Z
LAST-MODIFIED:20241206T160905Z
UID:9771-1737376200-1737383400@www.artcenternj.org
SUMMARY:MLK Day: Community Rock Garden
DESCRIPTION:All ages and families are welcome to paint rocks to contribute to our community rock garden! Help us spread messages of peace\, love\, and hope\, or create an image that is all your own! Once done\, all creations will live in the Art Center’s rock garden for the community to enjoy. All materials and supplies will be provided. VACNJ’s Director of Education and Community Engagement\, Rachel Aponte\, will be onsite to help with materials and ideas. No registration is required. This event is free and open to the public.
URL:https://www.artcenternj.org/event/mlk-day-community-rock-garden/
LOCATION:Visual Arts Center of New Jersey\, 68 Elm Street\, Summit\, NJ\, 07901\, United States
ATTACH;FMTTYPE=image/jpeg:https://www.artcenternj.org/wp-content/uploads/2024/12/MLK-Day-Event-image.jpg
END:VEVENT
END:VCALENDAR