BEGIN:VCALENDAR
VERSION:2.0
PRODID:-//Visual Arts Center of New Jersey - ECPv6.15.18//NONSGML v1.0//EN
CALSCALE:GREGORIAN
METHOD:PUBLISH
X-ORIGINAL-URL:https://www.artcenternj.org
X-WR-CALDESC:Events for Visual Arts Center of New Jersey
REFRESH-INTERVAL;VALUE=DURATION:PT1H
X-Robots-Tag:noindex
X-PUBLISHED-TTL:PT1H
BEGIN:VTIMEZONE
TZID:UTC
BEGIN:STANDARD
TZOFFSETFROM:+0000
TZOFFSETTO:+0000
TZNAME:UTC
DTSTART:20240101T000000
END:STANDARD
END:VTIMEZONE
BEGIN:VEVENT
DTSTART;TZID=UTC:20250115T190000
DTEND;TZID=UTC:20250115T200000
DTSTAMP:20260421T084043
CREATED:20240920T015029Z
LAST-MODIFIED:20241213T202619Z
UID:9523-1736967600-1736971200@www.artcenternj.org
SUMMARY:The Road Home: The Journey from Incarceration to Re-entry
DESCRIPTION:On Wednesday\, January 15\, from 7–8 PM\, VACNJ will host\, “The Road Home: The Journey from Incarceration to Re-entry” where curatorial advisor\, Tamar Montuma will moderate a panel discussion with Ashanti Jones\, Austin Morreale\, and Keyion Jones\, experts in the criminal legal field in New Jersey. Audience members will learn about the challenges faced by individuals re-entering their communities from incarceration and current advocacy efforts in the criminal legal space. \nThis event is free and open to the public. Click here to register.
URL:https://www.artcenternj.org/event/save-the-date-the-road-home-the-journey-from-incarceration-to-re-entry/
LOCATION:Visual Arts Center of New Jersey\, 68 Elm Street\, Summit\, NJ\, 07901\, United States
ATTACH;FMTTYPE=image/jpeg:https://www.artcenternj.org/wp-content/uploads/2024/09/Artist-Talk-Event-Image.jpg
END:VEVENT
END:VCALENDAR