BEGIN:VCALENDAR
VERSION:2.0
PRODID:-//Visual Arts Center of New Jersey - ECPv6.15.18//NONSGML v1.0//EN
CALSCALE:GREGORIAN
METHOD:PUBLISH
X-ORIGINAL-URL:https://www.artcenternj.org
X-WR-CALDESC:Events for Visual Arts Center of New Jersey
REFRESH-INTERVAL;VALUE=DURATION:PT1H
X-Robots-Tag:noindex
X-PUBLISHED-TTL:PT1H
BEGIN:VTIMEZONE
TZID:UTC
BEGIN:STANDARD
TZOFFSETFROM:+0000
TZOFFSETTO:+0000
TZNAME:UTC
DTSTART:20230101T000000
END:STANDARD
END:VTIMEZONE
BEGIN:VEVENT
DTSTART;TZID=UTC:20241121T120000
DTEND;TZID=UTC:20241121T140000
DTSTAMP:20260419T235213
CREATED:20241029T190249Z
LAST-MODIFIED:20241029T190249Z
UID:9620-1732190400-1732197600@www.artcenternj.org
SUMMARY:Jacadi Summit Sale
DESCRIPTION:JACADI SUMMIT invites the Visual Arts Center of New Jersey Community to a Holiday Shopping Event! \nEnjoy Jacadi Paris Shopping\, Light French Bites\, & Shop to Fundraise for Visual Arts: \nJacadi Black Friday Sales Up to 30% Off a Selection!\nJacadi will Donate 5% of Event’s Sales to the Art Center’s Children’s Programming! \nThursday\, November 21st 12-2pm\nJacadi Paris\n487 Springfield Ave\,\nSummit NJ 07901 \nPlease click here to RSVP by November 19th
URL:https://www.artcenternj.org/event/jacadi-summit-sale/
LOCATION:Jacadi Summit\, 487 Springfield Ave\, Summit\, NJ\, 07901
ATTACH;FMTTYPE=image/jpeg:https://www.artcenternj.org/wp-content/uploads/2024/10/Jacadi-Event-Image.jpg
END:VEVENT
END:VCALENDAR